BEGIN:VCALENDAR
VERSION:2.0
PRODID:-//Gemeinde Kappel am Krappfeld - ECPv6.15.20//NONSGML v1.0//EN
CALSCALE:GREGORIAN
METHOD:PUBLISH
X-WR-CALNAME:Gemeinde Kappel am Krappfeld
X-ORIGINAL-URL:https://kappel-am-krappfeld.at
X-WR-CALDESC:Veranstaltungen für Gemeinde Kappel am Krappfeld
REFRESH-INTERVAL;VALUE=DURATION:PT1H
X-Robots-Tag:noindex
X-PUBLISHED-TTL:PT1H
BEGIN:VTIMEZONE
TZID:Europe/Berlin
BEGIN:DAYLIGHT
TZOFFSETFROM:+0100
TZOFFSETTO:+0200
TZNAME:CEST
DTSTART:20250330T010000
END:DAYLIGHT
BEGIN:STANDARD
TZOFFSETFROM:+0200
TZOFFSETTO:+0100
TZNAME:CET
DTSTART:20251026T010000
END:STANDARD
BEGIN:DAYLIGHT
TZOFFSETFROM:+0100
TZOFFSETTO:+0200
TZNAME:CEST
DTSTART:20260329T010000
END:DAYLIGHT
BEGIN:STANDARD
TZOFFSETFROM:+0200
TZOFFSETTO:+0100
TZNAME:CET
DTSTART:20261025T010000
END:STANDARD
BEGIN:DAYLIGHT
TZOFFSETFROM:+0100
TZOFFSETTO:+0200
TZNAME:CEST
DTSTART:20270328T010000
END:DAYLIGHT
BEGIN:STANDARD
TZOFFSETFROM:+0200
TZOFFSETTO:+0100
TZNAME:CET
DTSTART:20271031T010000
END:STANDARD
END:VTIMEZONE
BEGIN:VEVENT
DTSTART;TZID=Europe/Berlin:20260424T130000
DTEND;TZID=Europe/Berlin:20260424T183000
DTSTAMP:20260425T001243
CREATED:20260420T063255Z
LAST-MODIFIED:20260420T063331Z
UID:7308-1777035600-1777055400@kappel-am-krappfeld.at
SUMMARY:Kompostaktion
DESCRIPTION:
URL:https://kappel-am-krappfeld.at/veranstaltung/kompostaktion/
LOCATION:Wertstoffsammelzentrum Althofen\, Industriepark AB\, C 20\, Althofen\, 9330
END:VEVENT
END:VCALENDAR